Workbook
Name _ime1: Данни!$B$1
Name _ime2: Данни!$B$5
Name _ime3: Данни!$B$6
Name adres: Данни!$B$2
Name bulstat: Данни!$B$3
Name data1: Данни!$B$4
Name data2: Данни!$B$7

Sheet Данни
A1: Наименование на предприятието: | B1: 111111
A2: Адрес: | B2: 111111
A3: Булстат: | B3: 111111
A4: Дата към, която се съставя: | B4: 45657
A5: Име и фамилия на представляващия: | B5: 111111
A6: Име и фамилия на съставителя: | B6: 111111
A7: Дата на съставяне: | B7: 45699

Sheet Баланс
A1: Приложение № 1 към СС 1( в сила от 01.01.2008) | G1: Булстат: | H1: =bulstat -> 111111
B5: =_ime1 -> 111111
B6: =adres -> 111111
B9: СЧЕТОВОДЕН БАЛАНС
B10: към
B11: =data1 -> 45657
B13: АКТИВ | F13: ПАСИВ
C15: код | D15: Суми | G15: код | H15: =D15 -> Суми
B16: РАЗДЕЛИ, ГРУПИ, СТАТИИ | C16: на | D16: 2024 г | E16: хил | F16: РАЗДЕЛИ, ГРУПИ, СТАТИИ | G16: на | H16: =D16 -> 2024 г | I16: =E16 -> хил
C17: реда | D17: лв | E17: лв | G17: реда | H17: лв | I17: =E17 -> лв
B18: а | D18: 1 | E18: 2 | F18: а | H18: 1 | I18: 2
B19: А. ЗАПИСАН, НО НЕВНЕСЕН | F19: А. СОБСТВЕН КАПИТАЛ
B20: КАПИТАЛ | C20: 01000 | F20: I. ЗАПИСАН КАПИТАЛ | G20: 05100 | H20: 0 | I20: =I21+I24 -> 0
B21: Б. НЕТЕКУЩИ АКТИВИ | F21: 1. Акционерен капитал в т.ч | G21: 05110 | H21: 0
B22: I. НЕМАТЕРИАЛНИ АКТИВИ | F22: -. котирани акции на фин.пазари | G22: 05111
B23: 1. Продукти от развойна дейност | C23: 02110 | F23: -. некотирани акции на фин.пазари | G23: 05112
B24: 2. Концесии, патенти, лицензи, търгов- | F24: 2. Други видове основен капитал | G24: 05120
B25: ски марки, програмни продукти и | F25: II. ПРЕМИИ ОТ ЕМИСИИ | G25: 05200
B26: други подобни права и активи в т.ч. | C26: 02120 | D26: =4786.83-4786.83 -> 0 | F26: III. РЕЗЕРВ ОТ ПОСЛЕДВАЩИ
B27: -за водноелектрически централи | C27: 02121 | F27: ОЦЕНКИ в т.ч. | G27: 05300
B28: -за вятърни генератори | C28: 02122 | F28: -резерв от посл.оценки фин.инструменти | G28: 05310
B29: -за слънчеви колектори | C29: 02123 | F29: IV. РЕЗЕРВИ
B30: -за термопомпи | C30: 02124 | F30: 1. Законови резерви | G30: 05410 | H30: 0 | I30: 0
B31: 3. Търговска репутация | C31: 02130 | F31: 2. Резерв, свързан с изкупени
B32: 4. Предоставени аванси и нематериални | F32: собствени акции | G32: 05420
B33: активи в процес на изграждане | C33: 02140 | F33: 3. Резерв, съгласно учредителен акт | G33: 05430
B34: в т. ч. предоставени аванси | C34: 02141 | F34: 4. Други резерви | G34: 05440 | H34: 0 | I34: 0
B35: Общо за група I : | C35: 02100 | D35: =(D23+D26+D31+D33) -> 0 | E35: =(E23+E26+E31+E33) -> 0 | F35: Общо за група IV : | G35: 05400 | H35: =SUM(H30:H34) -> 0 | I35: =SUM(I30:I34) -> 0
B36: II. ДЪЛГОТРАЙНИ МАТЕРИАЛ- | F36: V. НАТРУПАНА ПЕЧАЛБА/ЗАГУ-
B37: НИ АКТИВИ | F37: БА ОТ МИНАЛИ ГОДИНИ
B38: 1. Земи и сгради, в т.ч.: | C38: 02210 | D38: =SUM(D39+D40) -> 0 | E38: =SUM(E39+E40) -> 0 | F38: 1. Неразпределена печалба | G38: 05510 | H38: 0 | I38: 0
B39: - земи | C39: 02211 | D39: 0 | E39: 0 | F39: 2. Непокрита загуба | G39: 05520 | H39: 0 | I39: 0
B40: - сгради | C40: 02212 | D40: 0 | E40: 0 | F40: Общо за група V : | G40: 05500 | H40: =SUM(H38:H39) -> 0 | I40: =SUM(I38:I39) -> 0
B41: 2. Машини, производствено оборудва- | F41: VI. ТЕКУЩА ПЕЧАЛБА (ЗАГУБА) | G41: 05600 | H41: 0 | I41: 0
B42: не и апаратура, тр.средства в т. ч. | C42: 02220 | D42: 0 | E42: 0 | F42: ОБЩО за РАЗДЕЛ "А" : | G42: 05000 | H42: =H20+H25+H27+H35+H40+H41 -> 0 | I42: =I20+I25+I27+I35+I40+I41 -> 0
B43: -за водноелектрически централи | C43: 02221 | F43: Б. ПРОВИЗИИ И СХОДНИ
B44: -за вятърни генератори | C44: 02222 | F44: ЗАДЪЛЖЕНИЯ
B45: -за слънчеви колектори | C45: 02223 | F45: 1. Провизии за пенсии и други сходни
B46: -за термопомпи | C46: 02224 | F46: задължения | G46: 06100
B47: 3. Съоръжения и други | C47: 02230 | F47: 2. Провизии за данъци, в т.ч. : | G47: 06200
...

Sheet ОПР
A1: Приложение № 2 към СС 1( в сила от 01.01.2008) | G1: Булстат: | H1: =bulstat -> 111111
B3: =_ime1 -> 111111
B4: =adres -> 111111
B6: ОТЧЕТ ЗА ПРИХОДИТЕ И РАЗХОДИТЕ
B7: към
B8: =data1 -> 45657
B9: НАИМЕНОВАНИЕ НА РАЗХОДИТЕ | C9: код | D9: Суми | F9: НАИМЕНОВАНИЕ НА ПРИХОДИТЕ | G9: код | H9: Суми
C10: на | D10: 2024г | E10: хил. | G10: на | H10: =D10 -> 2024г | I10: =E10 -> хил.
C11: реда | D11: лв | E11: лв | G11: реда | H11: =D11 -> лв | I11: =E11 -> лв
B12: а | D12: 1 | E12: 2 | F12: а | H12: 1 | I12: 2
B13: А. РАЗХОДИ | F13: Б. ПРИХОДИ
B14: 1. Намаление на запасите от продук- | F14: 1. Нетни приходи от продажби в т.ч.: | G14: 15100 | H14: =SUM(H15:H19) -> 0 | I14: =SUM(I15:I19) -> 0
B15: ция и незавършено производство | C15: 10100 | D15: 0 | E15: 0 | F15: а) продукция | G15: 15110 | H15: 0 | I15: 0
B16: 2. Разходи за суровини, материали и | F16: б) стоки | G16: 15120 | H16: 0 | I16: 0
B17: външни услуги, в т.ч.: | C17: 10200 | D17: =SUM(D18+D19) -> 0 | E17: =SUM(E18+E19) -> 0 | F17: в) услуги | G17: 15130 | H17: 0 | I17: 0
B18: а) суровини и материали | C18: 10210 | D18: 0 | E18: 0 | F18: г) материални и нематериални ДА | H18: 0 | I18: 0
B19: б) външни услуги | C19: 10220 | D19: 0 | E19: 0 | F19: д) други
B20: 3. Разходи за персонала, в т.ч.: | C20: 10300 | D20: =SUM(D21+D22) -> 0 | E20: =SUM(E21+E22) -> 0 | F20: 2. Увеличение на запасите от продук-
B21: а) разходи за възнаграждения | C21: 10310 | D21: 0 | E21: 0 | F21: ция и незавършено производство | G21: 15200
B22: б) разходи за осигуровки, в т.ч: | C22: 10320 | D22: 0 | E22: 0 | F22: 3. Разходи за придобиване на активи
B23: - свързани с пенсии | C23: 10321 | F23: по стопански начин | G23: 15300 | H23: 0
B24: 4. Разходи за амортизация и обез- | F24: 4. Други приходи, в т.ч.: | G24: 15400 | H24: 0 | I24: 0
B25: ценка в т.ч.: | C25: 10400 | D25: =SUM(D28+D32) -> 0 | E25: =SUM(E28+E32) -> 0 | F25: - приходи от финансирания | G25: 15410 | H25: 0 | I25: 0
B26: а) разходи за амортизация и обез- | F26: ОБЩО ПРИХОДИ ОТ ОПЕРАТИВ-
B27: ценка на дълготрайни материални и | F27: НА ДЕЙНОСТ (1+2+3+4): | G27: 15000 | H27: =SUM(H14+H21+H23+H24) -> 0 | I27: =SUM(I14+I21+I23+I24) -> 0
B28: нематериални активи, в т.ч.: | C28: 10410 | D28: 0 | E28: 0 | F28: 5. Приходи от участия в дъщерни,
B29: - разходи за амортизация | C29: 10411 | D29: 0 | E29: 0 | F29: асоциирани, и смесени предпр. в т.ч.: | G29: 16100
B30: - разходи от обезценка | C30: 10412 | F30: - приходи от участия в предприятия
B31: б) разходи от обезценка на текущи | F31: от група | G31: 16110
B32: (краткотрайни) активи | C32: 10420 | F32: 6. Приходи от други инвестиции и
B33: 5. Други разходи, в т.ч.: | C33: 10500 | D33: =SUM(D35+D36+D37) -> 0 | E33: =SUM(E35+E36+E37) -> 0 | F33: заеми, признати като нетекущи
B34: а) балансова стойност на продадени- | F34: активи, в т. ч.: | G34: 16200
B35: те активи | C35: 10510 | F35: - приходи от предприятия от група | G35: 16210
B36: б) провизии | C36: 10520 | F36: 7. Други лихви и финансови приходи
B37: в) други | D37: 0 | E37: 0 | F37: в т.ч.: | G37: 16300 | H37: =SUM(H38+H40+H42+H43) -> 0 | I37: =SUM(I38+I40+I42+I43) -> 0
B38: ОБЩО РАЗХОДИ ЗА ОПЕРАТИВ- | F38: а) приходи от лихви | G38: 16310
B39: НА ДЕЙНОСТ (1+2+3+4+5): | C39: 10000 | D39: =SUM(D15+D17+D20+D25+D33) -> 0 | E39: =SUM(E15+E17+E20+E25+E33) -> 0 | F39: б) положителни разлики от операции
B40: 6. Разходи от обезценка на финансо- | F40: с финансови активи | G40: 16320
B41: ви активи, включително инвестиц., | F41: в) положителни разлики от промяна
B42: признати като текущи активи, в т.ч.: | C42: 11100 | F42: на валутни курсове | G42: 16330
...

Sheet П.поток
A1: Приложение № 1 към СС 7( в сила от 01.01.2008) | G1: Булстат: | H1: =bulstat -> 111111
B3: =_ime1 -> 111111
B4: =adres -> 111111
B7: ОТЧЕТ ЗА ПАРИЧНИТЕ ПОТОЦИ
B8: по прекия метод
B9: към
B11: =data1 -> 45657
B13: НАИМЕНОВАНИЕ НА ПАРИЧНИТЕ ПОТОЦИ | C13: код на реда | D13: Суми (лв) | G13: Суми (хил.лв.)
D14: ТЕКУЩ ПЕРИОД | G14: =D14 -> ТЕКУЩ ПЕРИОД
D15: Постъп-ления | E15: Плаща-ния | F15: Нетен поток | G15: Постъп-ления | H15: Плаща-ния | I15: Нетен поток
B17: а | C17: б | D17: 1 | E17: 2 | F17: 3 | G17: 1 | H17: 2 | I17: 3
B18: А. Парични потоци от основна дейност
B19: Парични потоци, свързани с търговски контрагенти | C19: 61531 | D19: 0 | E19: 0 | F19: =D19-E19 -> 0 | G19: 0 | H19: 0 | I19: =G19-H19 -> 0
B20: Парични потоци, свързани с краткосрочни финансови активи | C20: 61532 | F20: =D20-E20 -> 0 | I20: =G20-H20 -> 0
B21: Парични потоци, свързани с трудови възнаграждения | C21: 61533 | E21: 0 | F21: =D21-E21 -> 0 | H21: 0 | I21: =G21-H21 -> 0
B22: Парични потоци, свързани с лихви,комисионни, дивиденти и др. | C22: 61534 | F22: =D22-E22 -> 0 | I22: =G22-H22 -> 0
B23: Парични потоци от полож.и отрицателни валутни курс. разлики | C23: 61535 | F23: =D23-E23 -> 0 | I23: =G23-H23 -> 0
B24: Платени и възстановени данъци върху печалбата, ДДС | C24: 61536 | D24: 0 | E24: 0 | F24: =D24-E24 -> 0 | G24: 0 | H24: 0 | I24: =G24-H24 -> 0
B25: Плащания при разпределения на печалби | C25: 61537 | F25: =D25-E25 -> 0 | I25: =G25-H25 -> 0
B26: Други парични потоци от основната дейност | C26: 61538 | E26: 0 | F26: =D26-E26 -> 0 | H26: 0 | I26: =G26-H26 -> 0
B27: Всичко парични потоци от основната дейност ( А ) | C27: 61530 | D27: =SUM(D19:D26) -> 0 | E27: =SUM(E19:E26) -> 0 | F27: =SUM(F19:F26) -> 0 | G27: =SUM(G19:G26) -> 0 | H27: =SUM(H19:H26) -> 0 | I27: =SUM(I19:I26) -> 0
B28: Б. Парични потоци от инвестиционна дейност
B29: Парични потоци, свързани с дълготрайни активи | C29: 61541 | F29: =D29-E29 -> 0 | I29: =G29-H29 -> 0
B30: Парични потоци, свързани с краткосрочни финансови активи | C30: 61542 | F30: =D30-E30 -> 0 | I30: =G30-H30 -> 0
B31: Парични потоци, свързани с лихви,комисионни, дивиденти и др. | C31: 61543 | F31: =D31-E31 -> 0 | I31: =G31-H31 -> 0
B32: Парични потоци от бизнескомбинации - придобивания | C32: 61544 | F32: =D32-E32 -> 0 | I32: =G32-H32 -> 0
B33: Парични потоци от полож.и отрицателни валутни курсови разл. | C33: 61545 | F33: =D33-E33 -> 0 | I33: =G33-H33 -> 0
B34: Други парични потоци от инвестиционна дейност | C34: 61546 | F34: =D34-E34 -> 0 | I34: =G34-H34 -> 0
B35: Всичко парични потоци от инвестиц. дейност ( Б ) | C35: 61540 | D35: =SUM(D29:D34) -> 0 | E35: =SUM(E29:E34) -> 0 | F35: =SUM(F29:F34) -> 0 | G35: =SUM(G29:G34) -> 0 | H35: =SUM(H29:H34) -> 0 | I35: =SUM(I29:I34) -> 0
B36: В. Парични потоци от финансова дейност
B37: Парични потоци от емисия и обр.придобиване на ценни книжа | C37: 61551 | F37: =D37-E37 -> 0 | I37: =G37-H37 -> 0
B38: Парични потоци от доп. вноски и връщането им на собствениците | C38: 61552 | F38: =D38-E38 -> 0 | I38: =G38-H38 -> 0
B39: Парични потоци, свъзани с получени или предоставени заеми | C39: 61553 | D39: 0 | E39: 0 | F39: =D39-E39 -> 0 | G39: 0 | H39: 0 | I39: =G39-H39 -> 0
B40: Парични потоци, свързани с лихви,комисионни, дивиденти и др. | C40: 61554 | E40: 0 | F40: =D40-E40 -> 0 | H40: 0 | I40: =G40-H40 -> 0
B41: Плащания на задължения по лизингови договори | C41: 61555 | F41: =D41-E41 -> 0 | H41: 0 | I41: =G41-H41 -> 0
B42: Парични потоци от полож.и отрицателни валутни курсови разл. | C42: 61556 | F42: =D42-E42 -> 0 | I42: =G42-H42 -> 0
B43: Други парични потоци от финансовата дейност | C43: 61557 | D43: 0 | E43: 0 | F43: =D43-E43 -> 0 | H43: 0 | I43: =G43-H43 -> 0
B44: Всичко парични потоци от финансовата дейност ( В ) | C44: 61550 | D44: =SUM(D37:D43) -> 0 | E44: =SUM(E37:E43) -> 0 | F44: =SUM(F37:F43) -> 0 | G44: =SUM(G37:G43) -> 0 | H44: =SUM(H37:H43) -> 0 | I44: =SUM(I37:I43) -> 0
B45: Г. Изменение на паричните средства през периода ( А + Б + В ) | C45: 61560 | D45: =D27+D35+D44 -> 0 | E45: =E27+E35+E44 -> 0 | F45: =F27+F35+F44 -> 0 | G45: =G27+G35+G44 -> 0 | H45: =H27+H35+H44 -> 0 | I45: =I27+I35+I44 -> 0
B46: Д. Парични средства в началото на периода | C46: 61570 | D46: *** | E46: *** | F46: 0 | G46: *** | H46: *** | I46: 0
...

Sheet Собствен капитал
A1: Приложение № 4 към СС 1( в сила от 01.01.2008) | L1: Булстат: | M1: =bulstat -> 111111
B3: =_ime1 -> 111111
B4: =adres -> 111111
B7: ОТЧЕТ ЗА СОБСТВЕНИЯ КАПИТАЛ
B8: към
B10: =data1 -> 45657
B12: ПОКАЗАТЕЛИ | C12: код на реда | D12: Записан капитал | E12: Премии от емисии | F12: Резерв от последващи оценки | G12: РЕЗЕРВИ | K12: Финансов резултат от минали години | M12: Текуща печалба/загуба | N12: Общо собствен капитал
G14: Законови | H14: Резерв, свързан с изкупени собствени акции | I14: Резерв, съгласно учредителен акт | J14: Други резерви | K14: Неразпределена печалба | L14: Непокрита загуба
B20: а | C20: б | D20: 1 | E20: 2 | F20: 3 | G20: 4 | H20: 5 | I20: 6 | J20: 7 | K20: 8 | L20: 9 | M20: 10 | N20: 11
B21: 1. Салдо в началото на отчетния период | C21: 61610 | D21: 0 | G21: 0 | K21: 0 | M21: 0 | N21: =SUM(D21:M21) -> 0
B22: 2. Промени в счетоводната политика | C22: 61620 | N22: =SUM(D22:M22) -> 0
B23: 3. Грешки | C23: 61630 | N23: =SUM(D23:M23) -> 0
B24: 4. Салдо след промените в счетоводната политика и грешки | C24: 61640 | N24: =SUM(D24:M24) -> 0
B25: 5. Изменение за сметка на собствениците, в т.ч. : | C25: 61650 | D25: =SUM(D26:D27) -> 0 | E25: =SUM(E26:E27) -> 0 | F25: =SUM(F26:F27) -> 0 | G25: =SUM(G26:G27) -> 0 | H25: =SUM(H26:H27) -> 0 | I25: =SUM(I26:I27) -> 0 | K25: =SUM(K26:K27) -> 0 | L25: =SUM(L26:L27) -> 0 | M25: =SUM(M26:M27) -> 0 | N25: =SUM(D25:M25) -> 0
B26: - увеличения | C26: 61651 | N26: =SUM(D26:M26) -> 0
B27: - намаления | C27: 61652 | N27: =SUM(D27:M27) -> 0
B28: 6. Финансов резултат за текущия период | C28: 61660 | M28: 0 | N28: =SUM(D28:M28) -> 0
B29: 7. Разпределение на печалбата, в т.ч. | C29: 61670 | D29: =SUM(D30) -> 0 | E29: =SUM(E30) -> 0 | F29: =SUM(F30) -> 0 | G29: =SUM(G30) -> 0 | H29: =SUM(H30) -> 0 | I29: =SUM(I30) -> 0 | J29: =SUM(J30) -> 0 | K29: 0 | M29: 0 | N29: =SUM(D29:M29) -> 0
B30: - за дивиденти | C30: 61671 | K30: 0
B31: 8. Покриване на загуба | C31: 61680 | N31: =SUM(D31:M31) -> 0
B32: 9. Последващи оценка на активи и пасиви | C32: 61690 | D32: =SUM(D33:D34) -> 0 | E32: =SUM(E33:E34) -> 0 | F32: =SUM(F33:F34) -> 0 | G32: =SUM(G33:G34) -> 0 | H32: =SUM(H33:H34) -> 0 | I32: =SUM(I33:I34) -> 0 | J32: =SUM(J33:J34) -> 0 | K32: =SUM(K33:K34) -> 0 | ... M32: =SUM(M33:M34) -> 0 | N32: =SUM(D32:M32) -> 0
B33: - увеличение | C33: 61691 | N33: =SUM(D33:M33) -> 0
B34: - намаление | C34: 61692 | N34: =SUM(D34:M34) -> 0
B35: 10. Други изменения в собствения капитал | C35: 61710 | K35: 0 | N35: =SUM(D35:M35) -> 0
B36: 11. Салдо към края на отчетния период | C36: 61720 | D36: =D21+D22+D23+D24+D25+D28+D29+D31+D32+D35 -> 0 | E36: =E21+E22+E23+E24+E25+E28+E29+E31+E32+E35 -> 0 | F36: =F21+F22+F23+F24+F25+F28+F29+F31+F32+F35 -> 0 | G36: =G21+G22+G23+G24+G25+G28+G29+G31+G32+G35 -> 0 | H36: =H21+H22+H23+H24+H25+H28+H29+H31+H32+H35 -> 0 | I36: =I21+I22+I23+I24+I25+I28+I29+I31+I32+I35 -> 0 | J36: =J21+J22+J23+J24+J25+J28+J29+J31+J32+J35 -> 0 | K36: =K21+K22+K23+K24+K25+K28+K29+K31+K32+K35 -> 0 | ... M36: =M21+M22+M23+M24+M25+M28+M29+M31+M32+M35 -> 0 | N36: =SUM(D36:M36) -> 0
B37: 12. Промени от преводи на годишни финансови отчети на предприятия в чужбина | C37: 61730 | N37: =SUM(D37:M37) -> 0
B38: 13. Собствен капитал към края на отчетния период(11+ - 12) | C38: 61740 | D38: =D36+D37 -> 0 | E38: =E36+E37 -> 0 | F38: =F36+F37 -> 0 | G38: =G36+G37 -> 0 | H38: =H36+H37 -> 0 | I38: =I36+I37 -> 0 | J38: =J36+J37 -> 0 | K38: =K36+K37 -> 0 | ... M38: =M36+M37 -> 0 | N38: =SUM(D38:M38) -> 0
B40: Дата:
B41: =data2 -> 45699
E42: Съставител: | F42: =_ime3 -> 111111 | K42: Управител: | L42: =_ime2 -> 111111
F43: (име,фамилия) | L43: (име,фамилия)
F44: ………………………….. | L44: …………………..
F45: (подпис и печат) | L45: (подпис и печат)

Sheet ДА
A1: Приложение № 5 към СС 1( в сила от 01.01.2008) | P1: Булстат: | Q1: =bulstat -> 111111
A2: =_ime1 -> 111111
A3: =adres -> 111111
A4: СПРАВКА ЗА НЕТЕКУЩИТЕ (ДЪЛГОТРАЙНИТЕ) АКТИВИ
A5: към
A6: =data1 -> 45657
A7: ПОКАЗАТЕЛИ | B7: Код на реда | C7: Отчетна стойност на нетекущите активи | H7: Последваща оценка | J7: Преоценена стойност (4+5-6) | K7: Амортизация | O7: Последваща оценка | Q7: Преоценена амортизация в края на периода (11+12-13) | R7: Балансова стойност в края на периода (7-14)
C9: В началото на периода | D9: На постъпили през периода | E9: в т.ч. постъп.от внос и нови местно произв. | F9: На излезли през периода | G9: В края на периода (1+2+3) | H9: Увеличение | I9: Намаление | K9: В началото на периода | L9: Начислена през периода | M9: Отписана през периода | N9: В края на периода (8+9-10) | O9: Увеличенние | P9: Намаление
A14: а | B14: б | C14: 1 | D14: 2 | E14: 2а | F14: 3 | G14: 4 | H14: 5 | I14: 6 | J14: 7 | K14: 8 | L14: 9 | M14: 10 | N14: 11 | O14: 12 | P14: 13 | Q14: 14 | R14: 15
A15: I. НЕМАТЕРИАЛНИ АКТИВИ | T15: Проверка!
A16: 1. Продукти от развойна дейност | B16: 6110 | G16: =C16+D16-F16 -> 0 | J16: =G16+H16-I16 -> 0 | N16: =K16+L16-M16 -> 0 | O16: 0 | Q16: =N16+O16-P16 -> 0 | R16: =J16-Q16 -> 0 | S16: =Баланс!D23 -> 0 | T16: =R16-S16 -> 0
A17: -в т.ч. проучване на природни минерални залежи | B17: 6111
A18: 2. Концесии, патенти, лицензии, търговски марки
A19: програмни продукти и др.подобни права и активи в т.ч. | B19: 6120 | C19: 0 | G19: =C19+D19-F19 -> 0 | J19: =G19+H19-I19 -> 0 | K19: 0 | L19: 0 | N19: =K19+L19-M19 -> 0 | Q19: =N19+O19-P19 -> 0 | R19: =J19-Q19 -> 0 | S19: =Баланс!D26 -> 0 | T19: =R19-S19 -> 0
A20: -програмни продукти, включително разработените | K20: 0
A21: по стопански начин | B21: 6121 | C21: 0 | G21: =C21+D21-F21 -> 0 | J21: =G21+H21-I21 -> 0 | K21: 0 | L21: 0 | N21: =K21+L21-M21 -> 0 | Q21: =N21+O21-P21 -> 0 | R21: =J21-Q21 -> 0
A22: -авторски и други права върху развлекателни, лите-
A23: ратурни и аритистични произведения | B23: 6122 | G23: =C23+D23-F23 -> 0 | J23: =G23+H23-I23 -> 0 | N23: =K23+L23-M23 -> 0 | Q23: =N23+O23-P23 -> 0 | R23: =J23-Q23 -> 0
A24: 3. Търговска репутация | B24: 6130 | G24: =C24+D24-F24 -> 0 | J24: =G24+H24-I24 -> 0 | N24: =K24+L24-M24 -> 0 | Q24: =N24+O24-P24 -> 0 | R24: =J24-Q24 -> 0 | S24: =Баланс!D31 -> 0 | T24: =R24-S24 -> 0
A25: 4. Предоставени аванси и нематериални активи в
A26: процес на изграждане | B26: 6140 | G26: =C26+D26-F26 -> 0 | J26: =G26+H26-I26 -> 0 | N26: =K26+L26-M26 -> 0 | Q26: =N26+O26-P26 -> 0 | R26: =J26-Q26 -> 0 | S26: =Баланс!D33 -> 0 | T26: =R26-S26 -> 0
A27: -в т.ч. предоставени аванси | B27: 6141 | S27: =Баланс!D34 -> 0 | T27: =R27-S27 -> 0
A28: Обща сума I : | B28: 6100 | C28: =(C16+C19+C24+C26) -> 0 | D28: =(D16+D19+D24+D26) -> 0 | E28: =(E16+E19+E24+E26) -> 0 | F28: =(F16+F19+F24+F26) -> 0 | G28: =(G16+G19+G24+G26) -> 0 | H28: =(H16+H19+H24+H26) -> 0 | I28: =(I16+I19+I24+I26) -> 0 | J28: =(J16+J19+J24+J26) -> 0 | ... R28: =(R16+R19+R24+R26) -> 0 | S28: =Баланс!D35 -> 0 | T28: =R28-S28 -> 0
A29: II. ДЪЛГОТРАЙНИ МАТЕРИАЛНИ АКТИВИ
A30: 1. Земи и сгради, в т.ч. : | B30: 6210 | C30: 0 | D30: =SUM(D31:D34) -> 0 | E30: =SUM(E31:E34) -> 0 | F30: =SUM(F31:F34) -> 0 | G30: 0 | H30: =SUM(H31:H34) -> 0 | I30: =SUM(I31:I34) -> 0 | J30: =SUM(J31:J34) -> 0 | K30: 0 | L30: 0 | M30: =SUM(M31:M34) -> 0 | N30: 0 | O30: =SUM(O31:O34) -> 0 | P30: =SUM(P31:P34) -> 0 | Q30: =SUM(Q31:Q34) -> 0 | R30: =SUM(R31:R34) -> 0 | S30: =Баланс!D38 -> 0 | T30: =R30-S30 -> 0
A31: - земи | B31: 6211 | G31: =C31+D31-F31 -> 0 | J31: =G31+H31-I31 -> 0 | N31: =K31+L31-M31 -> 0 | Q31: =N31+O31-P31 -> 0 | R31: =J31-Q31 -> 0 | S31: =Баланс!D39 -> 0 | T31: =R31-S31 -> 0
A32: - сгради нежилищни | B32: 6212 | C32: 0 | G32: =C32+D32-F32 -> 0 | J32: =G32+H32-I32 -> 0 | K32: 0 | L32: 0 | N32: =K32+L32-M32 -> 0 | Q32: =N32+O32-P32 -> 0 | R32: =J32-Q32 -> 0
A33: - сгради жилищни | B33: 6213
A34: - сгради със смесено предназначение | B34: 6214
A35: 2. Машини, производствено оборудване и апаратура
A36: поточни производствени линии
B37: 6220 | C37: 0 | D37: 0 | G37: =C37+D37-F37 -> 0 | J37: =G37+H37-I37 -> 0 | K37: 0 | L37: 0 | N37: =K37+L37-M37 -> 0 | Q37: =N37+O37-P37 -> 0 | R37: =J37-Q37 -> 0 | S37: =Баланс!D42 -> 0 | T37: =R37-S37 -> 0
A38: 3. Съоръжения в т.ч. | B38: 6230 | G38: =C38+D38-F38 -> 0 | J38: =G38+H38-I38 -> 0 | N38: =K38+L38-M38 -> 0 | Q38: =N38+O38-P38 -> 0 | R38: =J38-Q38 -> 0 | S38: =Баланс!D47 -> 0 | T38: =R38-S38 -> 0
A39: - съоръжения, изградени чрез строителна дейност | B39: 6231 | G39: =C39+D39-F39 -> 0 | J39: =G39+H39-I39 -> 0 | N39: =K39+L39-M39 -> 0 | Q39: =N39+O39-P39 -> 0 | R39: =J39-Q39 -> 0
A40: 4.Транспопртни средства | B40: 6240 | C40: 0 | G40: =C40+D40-F40 -> 0 | J40: =G40+H40-I40 -> 0 | K40: 0 | L40: 0 | N40: =K40+L40-M40 -> 0 | Q40: =N40+O40-P40 -> 0 | R40: =J40-Q40 -> 0 | S40: 0 | T40: =R40 -> 0
A41: 5. Други дълготрайни материални активи | B41: 6250 | C41: 0 | G41: =C41+D41-F41 -> 0 | J41: =G41+H41-I41 -> 0 | L41: 0 | N41: =K41+L41-M41 -> 0 | Q41: =N41+O41-P41 -> 0 | R41: =J41-Q41 -> 0
A42: 6. Предоставени аванси и дълготрайни материални
A43: активи в процес на изграждане | B43: 6260 | G43: =C43+D43-F43 -> 0 | J43: =G43+H43-I43 -> 0 | N43: =K43+L43-M43 -> 0 | Q43: =N43+O43-P43 -> 0 | R43: =J43-Q43 -> 0 | S43: =Баланс!D49 -> 0 | T43: =R43-S43 -> 0
A44: -в т.ч. предоставени аванси | B44: 6261 | S44: =Баланс!D50 -> 0 | T44: =R44-S44 -> 0
A45: Обща сума II: | B45: 6200 | C45: =SUM(C30+C37+C38+C40+C41+C43)+C28 -> 0 | D45: =SUM(D30+D37+D38+D40+D41+D43)+D28 -> 0 | E45: =SUM(E30+E37+E38+E40+E41+E43) -> 0 | F45: =SUM(F30+F37+F38+F41+F43) -> 0 | G45: =SUM(G30+G37+G38+G40+G41+G43)+G28 -> 0 | H45: =SUM(H30+H37+H38+H41+H43) -> 0 | I45: =SUM(I30+I37+I38+I41+I43) -> 0 | J45: =SUM(J30+J37+J38+J40+J41+J43)+J28 -> 0 | K45: =SUM(K30+K37+K38+K40+K41+K43)+K28 -> 0 | L45: =SUM(L30+L37+L38+L40+L41+L43)+L28 -> 0 | M45: =SUM(M30+M37+M38+M41+M43) -> 0 | N45: =SUM(N30+N37+N38+N40+N41+N43)+N28 -> 0 | O45: =SUM(O30+O37+O38+O41+O43) -> 0 | P45: =SUM(P30+P37+P38+P41+P43) -> 0 | Q45: =SUM(Q30+Q37+Q38+Q40+Q41+Q43)+Q28 -> 0 | R45: =SUM(R30+R37+R38+R40+R41+R43)+R28 -> 0 | S45: =Баланс!D51 -> 0 | T45: =R45-S45 -> 0
...
