Workbook

Sheet ОБЕКТ 1
A1: ПРИЛОЖЕНИЕ 1
I2: Т А Б Л И Ц А | AP2: Съставил:
I3: за отчитане явяването/неявяването на работа през месец септември 2023г.
AP4: Нормочасове: | AR4: НА 8 ЧАСА | AS4: 160
AR5: НА 4 ЧАСА | AS5: 80
A7: № по ред | B7: Трите имена по документ за самоличност | D7: Град | E7: ОБЕКТ | F7: Длъжност | AL7: Явяване на работа | AO7: Неявявяния
C8: работно време /часове/ | G8: 1 | H8: 2 | I8: 3 | J8: 4 | K8: 5 | L8: 6 | M8: 7 | N8: 8 | O8: 9 | P8: 10 | Q8: 11 | R8: 12 | S8: 13 | T8: 14 | U8: 15 | V8: 16 | W8: 17 | X8: 18 | Y8: 19 | Z8: 20 | AA8: 21 | AB8: 22 | AC8: 23 | AD8: 24 | AE8: 25 | AF8: 26 | AG8: 27 | AH8: 28 | AI8: 29 | AJ8: 30 | AK8: 31 | AL8: ЧАСОВЕ ОБЩО | AM8: ОБЩО ДНИ | AN8: ОБЩО ЧАСОВЕ 1 МЕСЕЦ | AO8: Редовен отпуск | AP8: Отпуск по майчинство | AQ8: Отпуск по болест | AR8: Изп. държ. задължения | AS8: С разреш. на администр. | AT8: Самоотлъчка | AU8: ОТПУСКА | AV8: ИЗВ.ЧАСОВЕ
AO9: О | AP9: М | AQ9: Б | AR9: Д | AS9: А | AT9: С | AU9: О
A10: 1 | B10: ИВАН ИВАНОВ | C10: 8 | D10: Русе | E10: ОБЕКТ 1 | F10: продавач-консултант | G10: 1 | H10: П | I10: П | J10: 1 | K10: 1 | L10: П | M10: 1 | N10: 1 | O10: П | P10: П | Q10: О | R10: О | S10: О | T10: О | U10: О | V10: П | W10: П | X10: 1 | Y10: 1 | Z10: 1 | AA10: 1 | AB10: П | AC10: П | AD10: П | AE10: 1 | AF10: 1 | AG10: 1 | AH10: 1 | AI10: 1 | AJ10: П | AK10: 1 | AL10: =COUNTIF(G10:AK10,"1")*8+COUNTIF(G10:AK10,"2")*4+COUNTIF(G10:AK10,"3")*5+COUNTIF(G10:AK10,"О")*8+COUNTIF(G10:AK10,"Б")*8 -> 160 | AM10: =COUNTIF(G10:AK10,"1")+COUNTIF(G10:AK10,"2")+COUNTIF(G10:AK10,"3") -> 15 | AN10: =COUNTIF(G10:AJ10,"1")*8+COUNTIF(G10:AJ10,"2")*4+COUNTIF(G10:AJ10,"3")*5 -> 112 | AO10: =COUNTIF(F10:AJ10,"о") -> 5 | AP10: =COUNTIF(G10:AK10,"м") -> 0 | AQ10: =COUNTIF(H10:AL10,"б") -> 0 | AR10: =COUNTIF(I10:AM10,"д") -> 0 | AS10: =COUNTIF(J10:AN10,"а") -> 0 | AT10: =COUNTIF(K10:AO10,"с") -> 0 | AU10: =COUNTIF(M10:AQ10,"о") -> 5 | AV10: =AL10-AS4 -> 0
A11: 2 | B11: ПЕТЪР ПЕТРОВ | C11: 4 | D11: Русе | E11: ОБЕКТ 1 | F11: продавач-консултант | G11: 2 | H11: П | I11: П | J11: 2 | K11: 2 | L11: П | M11: 2 | N11: 2 | O11: П | P11: П | Q11: 2 | R11: 2 | S11: 2 | T11: 2 | U11: 2 | V11: П | W11: П | X11: 0 | Y11: 0 | Z11: 0 | AA11: 0 | AB11: П | AC11: П | AD11: П | AE11: 2 | AF11: 2 | AG11: 2 | AH11: 2 | AI11: 2 | AJ11: П | AK11: 2 | AL11: =COUNTIF(G11:AK11,"1")*8+COUNTIF(G11:AK11,"2")*4+COUNTIF(G11:AK11,"3")*5+COUNTIF(G10:AK10,"О")*4+COUNTIF(G10:AK10,"Б")*4 -> 84 | AM11: =COUNTIF(G11:AK11,"1")+COUNTIF(G11:AK11,"2")+COUNTIF(G11:AK11,"3") -> 16 | AN11: =COUNTIF(G11:AJ11,"1")*8+COUNTIF(G11:AJ11,"2")*8+COUNTIF(G11:AJ11,"3")*5 -> 120 | AO11: =COUNTIF(F11:AJ11,"о") -> 0 | AP11: =COUNTIF(G11:AK11,"м") -> 0 | AQ11: =COUNTIF(H11:AL11,"б") -> 0 | AR11: =COUNTIF(I11:AM11,"д") -> 0 | AS11: =COUNTIF(J11:AN11,"а") -> 0 | AT11: =COUNTIF(K11:AO11,"с") -> 0 | AU11: =COUNTIF(M11:AQ11,"о") -> 0 | AV11: =AL11-AS5 -> 4
A12: 3
A13: 4
A14: 5
A15: 14
A16: 15
A17: 16
B27: работно време :
B29: Русе, обект Център | C29: 10:00-19:00
M30: П - почивка
B31: 1 - първа смяна | C31: 8 | E31: 10:00-18:00 | M31: О - отпуск
B32: 2 - втора смяна | C32: 4 | E32: 11:00-15:00 | M32: НО - неплатен отпуск
B33: 3 - трета смяна | C33: 5 | E33: 10:00-15:00 | M33: Б - болничен
M34: м-майчинство
N36: СЪБОТА И НЕДЕЛЯ
N38: ОФИЦИАЛЕН ПРАЗНИК

Sheet ОБЕКТ 2
A1: ПРИЛОЖЕНИЕ 1
I2: Т А Б Л И Ц А | AP2: Съставил:
I3: за отчитане явяването/неявяването на работа през месец септември 2023г.
AP4: Нормочасове: | AR4: НА 8 ЧАСА | AS4: 160
A7: № по ред | B7: Трите имена по документ за самоличност | D7: Град | E7: ОБЕКТ | F7: Длъжност | AL7: Явяване на работа | AO7: Неявявяния
C8: работно време /часове/ | G8: 1 | H8: 2 | I8: 3 | J8: 4 | K8: 5 | L8: 6 | M8: 7 | N8: 8 | O8: 9 | P8: 10 | Q8: 11 | R8: 12 | S8: 13 | T8: 14 | U8: 15 | V8: 16 | W8: 17 | X8: 18 | Y8: 19 | Z8: 20 | AA8: 21 | AB8: 22 | AC8: 23 | AD8: 24 | AE8: 25 | AF8: 26 | AG8: 27 | AH8: 28 | AI8: 29 | AJ8: 30 | AK8: 31 | AL8: ЧАСОВЕ ОБЩО | AM8: ОБЩО ДНИ | AN8: ОБЩО ЧАСОВЕ 1 МЕСЕЦ | AO8: Редовен отпуск | AP8: Отпуск по майчинство | AQ8: Отпуск по болест | AR8: Изп. държ. задължения | AS8: С разреш. на администр. | AT8: Самоотлъчка | AU8: ОТПУСКА | AV8: ИЗВ.ЧАСОВЕ | AW8: празничен труд в часове
AO9: О | AP9: М | AQ9: Б | AR9: Д | AS9: А | AT9: С | AU9: О
A10: 1 | B10: АНГЕЛ АНГЕЛОВ | C10: 8 | D10: Русе | E10: ОБЕКТ 2 | F10: продавач-консултант | G10: 1 | H10: П | I10: П | J10: 1 | K10: 1 | L10: П | M10: 1 | N10: 1 | O10: П | P10: П | Q10: 1 | R10: 1 | S10: 1 | T10: 1 | U10: 1 | V10: П | W10: П | X10: О | Y10: О | Z10: О | AA10: О | AB10: П | AC10: П | AD10: П | AE10: 1 | AF10: 1 | AG10: 1 | AH10: 1 | AI10: 1 | AJ10: П | AK10: 1 | AL10: =COUNTIF(G10:AK10,"1")*8+COUNTIF(G10:AK10,"2")*8+COUNTIF(G10:AK10,"3")*5+COUNTIF(G10:AK10,"О")*8+COUNTIF(G10:AK10,"Б")*8 -> 160 | AM10: =COUNTIF(G10:AK10,"1")+COUNTIF(G10:AK10,"2")+COUNTIF(G10:AK10,"3") -> 16 | AN10: =COUNTIF(G10:AJ10,"1")*7+COUNTIF(G10:AJ10,"2")*8+COUNTIF(G10:AJ10,"3")*4.5 -> 105 | AO10: =COUNTIF(G10:AK10,"о") -> 4 | AP10: =COUNTIF(G10:AL10,"М") -> 0 | AQ10: =COUNTIF(G10:AK10,"Б") -> 0 | AR10: =COUNTIF(G10:AK10,"Д") -> 0 | AS10: =COUNTIF(G10:AK10,"А") -> 0 | AT10: =COUNTIF(G10:AK10,"С") -> 0 | AU10: =COUNTIF(G10:AK10,"О") -> 4 | AV10: =AL10-AS4 -> 0
A11: 2 | B11: ПЛАМЕН ПЛАМЕНОВ | C11: 8 | D11: Русе | E11: ОБЕКТ 2 | F11: продавач-консултант | G11: 1 | H11: П | I11: П | J11: 1 | K11: 1 | L11: П | M11: 1 | N11: 1 | O11: П | P11: П | Q11: Б | R11: Б | S11: Б | T11: Б | U11: Б | V11: П | W11: П | X11: 1 | Y11: 1 | Z11: 1 | AA11: 1 | AB11: П | AC11: П | AD11: П | AE11: 1 | AF11: 1 | AG11: 1 | AH11: 1 | AI11: 1 | AJ11: П | AK11: 1 | AL11: =COUNTIF(G11:AK11,"1")*8+COUNTIF(G11:AK11,"2")*8+COUNTIF(G11:AK11,"3")*5+COUNTIF(G11:AK11,"О")*8+COUNTIF(G11:AK11,"Б")*8 -> 160 | AM11: =COUNTIF(G11:AK11,"1")+COUNTIF(G11:AK11,"2")+COUNTIF(G11:AK11,"3") -> 15 | AN11: =COUNTIF(G11:AJ11,"1")*7+COUNTIF(G11:AJ11,"2")*8+COUNTIF(G11:AJ11,"3")*4.5 -> 98 | AO11: =COUNTIF(G11:AK11,"о") -> 0 | AP11: =COUNTIF(G11:AL11,"М") -> 0 | AQ11: =COUNTIF(G11:AK11,"Б") -> 5 | AR11: =COUNTIF(G11:AK11,"Д") -> 0 | AS11: =COUNTIF(G11:AK11,"А") -> 0 | AT11: =COUNTIF(G11:AK11,"С") -> 0 | AU11: =COUNTIF(G11:AK11,"О") -> 0 | AV11: =AL11-AS4 -> 0
A12: 3
A13: 4
A14: 5
A15: 14
A16: 15
A17: 16
B27: работно време :
B29: Русе, обект Център | C29: 10:00-19:00
M30: П - почивка
B31: 1 - първа смяна | C31: 8 | E31: 10:00-18:00 | M31: О - отпуск
B32: 2 - втора смяна | C32: 8 | E32: 11:00-19:00 | M32: НО - неплатен отпуск
B33: 3 - трета смяна | C33: 5 | E33: 10:00-15:00 | M33: Б - болничен
M34: м-майчинство
N36: СЪБОТА И НЕДЕЛЯ
N38: ОФИЦИАЛЕН ПРАЗНИК

Sheet ОБЕКТ 3
A1: ПРИЛОЖЕНИЕ 1
I2: Т А Б Л И Ц А | AP2: Съставил:
I3: за отчитане явяването/неявяването на работа през месец септември 2023г.
AP4: Нормочасове: | AS4: 160
A7: № по ред | B7: Трите имена по документ за самоличност | D7: Град | E7: ОБЕКТ | F7: Длъжност | G7: СЕПТЕМВРИ | AL7: Явяване на работа | AO7: Неявявяния
C8: работно време /часове/ | G8: 1 | H8: 2 | I8: 3 | J8: 4 | K8: 5 | L8: 6 | M8: 7 | N8: 8 | O8: 9 | P8: 10 | Q8: 11 | R8: 12 | S8: 13 | T8: 14 | U8: 15 | V8: 16 | W8: 17 | X8: 18 | Y8: 19 | Z8: 20 | AA8: 21 | AB8: 22 | AC8: 23 | AD8: 24 | AE8: 25 | AF8: 26 | AG8: 27 | AH8: 28 | AI8: 29 | AJ8: 30 | AK8: 31 | AL8: ЧАСОВЕ ОБЩО | AM8: ОБЩО ДНИ | AN8: ОБЩО ЧАСОВЕ 1 МЕСЕЦ | AO8: Редовен отпуск | AP8: Отпуск по майчинство | AQ8: Отпуск по болест | AR8: Изп. държ. задължения | AS8: С разреш. на администр. | AT8: Самоотлъчка | AU8: ОТПУСКА | AV8: ИЗВ.ЧАСОВЕ
AO9: О | AP9: М | AQ9: Б | AR9: Д | AS9: А | AT9: С
A10: 1 | B10: ИВАНКА ПЕТРОВА | C10: 8 | D10: Силистра | E10: ОБЕКТ 3 | F10: продавач-консултант | G10: 1 | H10: П | I10: П | J10: П | K10: П | L10: П | M10: 1 | N10: 1 | O10: П | P10: П | Q10: 1 | R10: 1 | S10: 1 | T10: 1 | U10: 1 | V10: П | W10: П | X10: 1 | Y10: 1 | Z10: 1 | AA10: 1 | AB10: П | AC10: П | AD10: П | AE10: 1 | AF10: 1 | AG10: 1 | AH10: 1 | AI10: 1 | AJ10: П | AK10: 1 | AL10: =COUNTIF(G10:AK10,"1")*9+COUNTIF(G10:AK10,"2")*8+COUNTIF(G10:AK10,"3")*10+COUNTIF(G10:AK10,"О")*8+COUNTIF(G10:AK10,"Б")*8 -> 162 | AM10: =COUNTIF(G10:AK10,"1")+COUNTIF(G10:AK10,"2")+COUNTIF(G10:AK10,"3") -> 18 | AN10: =COUNTIF(G10:AK10,"1")*9+COUNTIF(G10:AK10,"2")*8+COUNTIF(G10:AK10,"3")*10 -> 162 | AO10: =COUNTIF(G10:AK10,"о") -> 0 | AP10: =COUNTIF(G10:AK10,"м") -> 0 | AQ10: =COUNTIF(G10:AK10,"б") -> 0 | AR10: =COUNTIF(G10:AK10,"д") -> 0 | AS10: =COUNTIF(G10:AK10,"а") -> 0 | AT10: =COUNTIF(G10:AK10,"с") -> 0 | AU10: =COUNTIF(G10:AK10,"о") -> 0 | AV10: =AL10-AS4 -> 2
A11: 2 | B11: КАЛОЯН КИРИЛОВ | C11: 8 | D11: Силистра | E11: ОБЕКТ3 | F11: продавач-консултант | G11: 1 | H11: П | I11: П | J11: 1 | K11: 1 | L11: П | M11: 1 | N11: 1 | O11: П | P11: П | Q11: 1 | R11: П | S11: П | T11: П | U11: 1 | V11: П | W11: П | X11: 1 | Y11: 1 | Z11: 1 | AA11: 1 | AB11: П | AC11: П | AD11: П | AE11: 1 | AF11: 1 | AG11: 1 | AH11: 1 | AI11: 1 | AJ11: П | AK11: 1 | AL11: =COUNTIF(G11:AK11,"1")*9+COUNTIF(G11:AK11,"2")*8+COUNTIF(G11:AK11,"3")*10+COUNTIF(G11:AK11,"О")*8+COUNTIF(G11:AK11,"Б")*8 -> 153 | AM11: =COUNTIF(G11:AK11,"1")+COUNTIF(G11:AK11,"2")+COUNTIF(G11:AK11,"3") -> 17 | AN11: =COUNTIF(G11:AK11,"1")*9+COUNTIF(G11:AK11,"2")*8+COUNTIF(G11:AK11,"3")*10 -> 153 | AO11: =COUNTIF(G11:AK11,"о") -> 0 | AP11: =COUNTIF(G11:AK11,"м") -> 0 | AQ11: =COUNTIF(G11:AK11,"б") -> 0 | AR11: =COUNTIF(G11:AK11,"д") -> 0 | AS11: =COUNTIF(G11:AK11,"а") -> 0 | AT11: =COUNTIF(G11:AK11,"с") -> 0 | AU11: =COUNTIF(G11:AK11,"о") -> 0 | AV11: =AL11-AS4 -> -7
A12: 3
A13: 4
A14: 5
A15: 6
A16: 7
A17: 8
A18: 9
B28: работно време :
B30: Силистра, обект Кауфланд | C30: 09:00-20:00 | E30: часове | F30: почивки
M31: П - почивка
B32: 1 - първа смяна | C32: 09:00-18:00 | E32: 9 часа | F32: 1 час | M32: О - отпуск
B33: 2 - втора смяна | C33: 12:00-20:00 | E33: 8 часа | F33: 1 час | M33: НО - неплатен отпуск
B34: 3 - трета смяна | C34: 09:00-19:00 | E34: 10 часа | F34: 1.5 часа | M34: Б - болничен
N37: СЪБОТА И НЕДЕЛЯ
I39: ОФИЦИАЛЕН ПРАЗНИК
I42: Русе център
I44: Русе дружба
I46: Силистра кауфланд
I48: Плевен кауфланд

Sheet ОБЕКТ 5
A1: ПРИЛОЖЕНИЕ 1
I2: Т А Б Л И Ц А | AP2: Съставил:
I3: за отчитане явяването/неявяването на работа през месец септември 2023г.
AP4: Нормочасове: | AS4: 160
A7: № по ред | B7: Трите имена по документ за самоличност | D7: Град | E7: ОБЕКТ | F7: Длъжност | G7: СЕПТЕМВРИ | AL7: Явяване на работа | AO7: Неявявяния
C8: работно време /часове/ | G8: 1 | H8: 2 | I8: 3 | J8: 4 | K8: 5 | L8: 6 | M8: 7 | N8: 8 | O8: 9 | P8: 10 | Q8: 11 | R8: 12 | S8: 13 | T8: 14 | U8: 15 | V8: 16 | W8: 17 | X8: 18 | Y8: 19 | Z8: 20 | AA8: 21 | AB8: 22 | AC8: 23 | AD8: 24 | AE8: 25 | AF8: 26 | AG8: 27 | AH8: 28 | AI8: 29 | AJ8: 30 | AK8: 31 | AL8: ЧАСОВЕ ОБЩО | AM8: ОБЩО ДНИ | AN8: ОБЩО ЧАСОВЕ 1 МЕСЕЦ | AO8: Редовен отпуск | AP8: Отпуск по майчинство | AQ8: Отпуск по болест | AR8: Изп. държ. задължения | AS8: С разреш. на администр. | AT8: Самоотлъчка | AU8: ОТПУСКА | AV8: ИЗВ.ЧАСОВЕ
AO9: О | AP9: М | AQ9: Б | AR9: Д | AS9: А | AT9: С
A10: 1 | B10: ВЕЛИЧКА ВЕЛИКОВА | C10: 8 | D10: Плевен | E10: ОБЕКТ 5 | F10: продавач-консултант | G10: 1 | H10: П | I10: П | J10: 1 | K10: 1 | L10: П | M10: 1 | N10: 1 | O10: П | P10: П | Q10: 1 | R10: 1 | S10: 1 | T10: 1 | U10: 1 | V10: П | W10: П | X10: П | Y10: П | Z10: 1 | AA10: 1 | AB10: П | AC10: П | AD10: П | AE10: О | AF10: О | AG10: 1 | AH10: 1 | AI10: 1 | AJ10: П | AK10: 1 | AL10: =COUNTIF(G10:AK10,"1")*9+COUNTIF(G10:AK10,"2")*8+COUNTIF(G10:AK10,"3")*10+COUNTIF(G10:AK10,"О")*8+COUNTIF(G10:AK10,"Б")*8 -> 160 | AM10: =COUNTIF(G10:AK10,"1")+COUNTIF(G10:AK10,"2")+COUNTIF(G10:AK10,"3") -> 16 | AN10: =COUNTIF(G10:AK10,"1")*9+COUNTIF(G10:AK10,"2")*8+COUNTIF(G10:AK10,"3")*10 -> 144 | AO10: =COUNTIF(G10:AK10,"о") -> 2 | AP10: =COUNTIF(G10:AK10,"м") -> 0 | AQ10: =COUNTIF(G10:AK10,"б") -> 0 | AR10: =COUNTIF(G10:AK10,"д") -> 0 | AS10: =COUNTIF(G10:AK10,"а") -> 0 | AT10: =COUNTIF(G10:AK10,"с") -> 0 | AU10: =COUNTIF(G10:AK10,"о") -> 2 | AV10: =AL10-AS4 -> 0
A11: 2 | B11: ПЕТРАНКА ПЕТРОВА | C11: 8 | D11: Плевен | E11: ОБЕКТ 5 | F11: продавач-консултант | G11: 1 | H11: П | I11: П | J11: 1 | K11: 1 | L11: П | M11: 1 | N11: 1 | O11: П | P11: П | Q11: 1 | R11: 3 | S11: 3 | T11: 3 | U11: 1 | V11: П | W11: П | X11: 2 | Y11: 2 | Z11: 2 | AA11: 2 | AB11: П | AC11: П | AD11: П | AE11: 1 | AF11: 1 | AG11: О | AH11: О | AI11: О | AJ11: П | AK11: 1 | AL11: =COUNTIF(G11:AK11,"1")*9+COUNTIF(G11:AK11,"2")*8+COUNTIF(G11:AK11,"3")*10+COUNTIF(G11:AK11,"О")*8+COUNTIF(G11:AK11,"Б")*8 -> 176 | AM11: =COUNTIF(G11:AK11,"1")+COUNTIF(G11:AK11,"2")+COUNTIF(G11:AK11,"3") -> 17 | AN11: =COUNTIF(G11:AK11,"1")*9+COUNTIF(G11:AK11,"2")*8+COUNTIF(G11:AK11,"3")*10 -> 152 | AO11: =COUNTIF(G11:AK11,"о") -> 3 | AP11: =COUNTIF(G11:AK11,"м") -> 0 | AQ11: =COUNTIF(G11:AK11,"б") -> 0 | AR11: =COUNTIF(G11:AK11,"д") -> 0 | AS11: =COUNTIF(G11:AK11,"а") -> 0 | AT11: =COUNTIF(G11:AK11,"с") -> 0 | AU11: =COUNTIF(G11:AK11,"о") -> 3 | AV11: =AL11-AS4 -> 16
A12: 3
A13: 4
A14: 5
A15: 6
A16: 7
A17: 7
A18: 8
A19: 9
B29: работно време :
B31: Плевен, обект Кауфланд | C31: 09:00-20:00 | E31: часове | F31: почивки
M32: П - почивка
B33: 1 - първа смяна | C33: 09:00-18:00 | E33: 9 часа | F33: 1 час | M33: О - отпуск
B34: 2 - втора смяна | C34: 12:00-20:00 | E34: 8 часа | F34: 1 час | M34: НО - неплатен отпуск
B35: 3 - трета смяна | C35: 09:00-19:00 | E35: 10 часа | F35: 1.5 часа | M35: Б - болничен
M36: М-майчинство
N38: СЪБОТА И НЕДЕЛЯ
I40: ОФИЦИАЛЕН ПРАЗНИК
I43: Русе център
I45: Русе дружба
I47: Силистра кауфланд
I49: Плевен кауфланд

Sheet ОБЕКТ 4
A1: ПРИЛОЖЕНИЕ 1
I2: Т А Б Л И Ц А | AP2: Съставил:
I3: за отчитане явяването/неявяването на работа през месец септември 2023г.
AP4: Нормочасове: | AS4: 152
A7: № по ред | B7: Трите имена по документ за самоличност | D7: Град | E7: ОБЕКТ | F7: Длъжност | G7: СЕПТЕМВРИ | AL7: Явяване на работа | AO7: Неявявяния
C8: работно време /часове/ | G8: 1 | H8: 2 | I8: 3 | J8: 4 | K8: 5 | L8: 6 | M8: 7 | N8: 8 | O8: 9 | P8: 10 | Q8: 11 | R8: 12 | S8: 13 | T8: 14 | U8: 15 | V8: 16 | W8: 17 | X8: 18 | Y8: 19 | Z8: 20 | AA8: 21 | AB8: 22 | AC8: 23 | AD8: 24 | AE8: 25 | AF8: 26 | AG8: 27 | AH8: 28 | AI8: 29 | AJ8: 30 | AK8: 31 | AL8: ЧАСОВЕ ОБЩО | AM8: ОБЩО ДНИ | AN8: ОБЩО ЧАСОВЕ 1 МЕСЕЦ | AO8: Редовен отпуск | AP8: Отпуск по майчинство | AQ8: Отпуск по болест | AR8: Изп. държ. задължения | AS8: С разреш. на администр. | AT8: Самоотлъчка | AU8: ОТПУСКА | AV8: ИЗВ.ЧАСОВЕ
AO9: О | AP9: М | AQ9: Б | AR9: Д | AS9: А | AT9: С
A10: 1 | B10: ЕМИЛ ЕМИЛОВ | C10: 8 | D10: Разград | E10: ОБЕКТ 4 | F10: продавач-консултант | G10: 1 | H10: П | I10: П | J10: 1 | K10: 1 | M10: 3 | N10: 3 | O10: П | P10: П | Q10: 1 | R10: 1 | S10: 2 | T10: 2 | U10: 2 | V10: П | W10: П | X10: 1 | Y10: 1 | Z10: 1 | AA10: 1 | AB10: П | AC10: П | AD10: П | AE10: 3 | AF10: 3 | AG10: 2 | AH10: 2 | AI10: 2 | AJ10: П | AK10: 1 | AL10: =COUNTIF(G10:AK10,"1")*9+COUNTIF(G10:AK10,"2")*8+COUNTIF(G10:AK10,"3")*10+COUNTIF(G10:AK10,"О")*8+COUNTIF(G10:AK10,"Б")*8 -> 178 | AM10: =COUNTIF(G10:AK10,"1")+COUNTIF(G10:AK10,"2")+COUNTIF(G10:AK10,"3") -> 20 | AN10: =COUNTIF(G10:AK10,"1")*9+COUNTIF(G10:AK10,"2")*8+COUNTIF(G10:AK10,"3")*10 -> 178 | AO10: =COUNTIF(G10:AK10,"о") -> 0 | AP10: =COUNTIF(G10:AK10,"м") -> 0 | AQ10: =COUNTIF(G10:AK10,"б") -> 0 | AR10: =COUNTIF(G10:AK10,"д") -> 0 | AS10: =COUNTIF(G10:AK10,"а") -> 0 | AT10: =COUNTIF(G10:AK10,"с") -> 0 | AU10: =COUNTIF(G10:AK10,"о") -> 0 | AV10: =AL10-AS4 -> 26
A11: 2 | B11: КАМЕН КАМЕНОВ | C11: 8 | D11: Разград | E11: ОБЕКТ 4 | F11: продавач-консултант | G11: Б | H11: П | I11: П | J11: Б | K11: Б | M11: 2 | N11: 2 | O11: П | P11: П | Q11: 3 | R11: 3 | S11: 1 | T11: 1 | U11: 1 | V11: П | W11: П | X11: 2 | Y11: 2 | Z11: 2 | AA11: 2 | AB11: П | AC11: П | AD11: П | AE11: 1 | AF11: 1 | AG11: 1 | AH11: 3 | AI11: 3 | AJ11: П | AK11: 1 | AL11: =COUNTIF(G11:AK11,"1")*9+COUNTIF(G11:AK11,"2")*8+COUNTIF(G11:AK11,"3")*10+COUNTIF(G11:AK11,"О")*8+COUNTIF(G11:AK11,"Б")*8 -> 175 | AM11: =COUNTIF(G11:AK11,"1")+COUNTIF(G11:AK11,"2")+COUNTIF(G11:AK11,"3") -> 17 | AN11: =COUNTIF(G11:AK11,"1")*9+COUNTIF(G11:AK11,"2")*8+COUNTIF(G11:AK11,"3")*10 -> 151 | AO11: =COUNTIF(G11:AK11,"о") -> 0 | AP11: =COUNTIF(G11:AK11,"м") -> 0 | AQ11: =COUNTIF(G11:AK11,"б") -> 3 | AR11: =COUNTIF(G11:AK11,"д") -> 0 | AS11: =COUNTIF(G11:AK11,"а") -> 0 | AT11: =COUNTIF(G11:AK11,"с") -> 0 | AU11: =COUNTIF(G11:AK11,"о") -> 0 | AV11: =AL11-AS4 -> 23
A12: 3
A13: 4
A14: 5
A15: 6
A16: 7
A17: 8
A18: 9
B28: работно време :
B30: Силистра, обект Кауфланд | C30: 09:00-20:00 | E30: часове | F30: почивки
M31: П - почивка
B32: 1 - първа смяна | C32: 09:00-18:00 | E32: 9 часа | F32: 1 час | M32: О - отпуск
B33: 2 - втора смяна | C33: 12:00-20:00 | E33: 8 часа | F33: 1 час | M33: НО - неплатен отпуск
B34: 3 - трета смяна | C34: 09:00-19:00 | E34: 10 часа | F34: 1.5 часа | M34: Б - болничен
N37: СЪБОТА И НЕДЕЛЯ
I39: ОФИЦИАЛЕН ПРАЗНИК
I42: Русе център
I44: Русе дружба
I46: Силистра кауфланд
I48: Плевен кауфланд

Sheet общ график
A1: ПРИЛОЖЕНИЕ 1
I2: Т А Б Л И Ц А | AP2: Съставил:
I3: за отчитане явяването/неявяването на работа през месец септември 2023г.
AP4: Нормочасове: | AR4: НА 8 ЧАСА | AS4: 160
AR5: НА 4 ЧАСА | AS5: 80
A7: № по ред | B7: Трите имена по документ за самоличност | D7: Град | E7: ОБЕКТ | F7: Длъжност | G7: септември | AL7: Явяване на работа | AO7: Неявявяния
C8: работно време /часове/ | G8: 1 | H8: 2 | I8: 3 | J8: 4 | K8: 5 | L8: 6 | M8: 7 | N8: 8 | O8: 9 | P8: 10 | Q8: 11 | R8: 12 | S8: 13 | T8: 14 | U8: 15 | V8: 16 | W8: 17 | X8: 18 | Y8: 19 | Z8: 20 | AA8: 21 | AB8: 22 | AC8: 23 | AD8: 24 | AE8: 25 | AF8: 26 | AG8: 27 | AH8: 28 | AI8: 29 | AJ8: 30 | AL8: ЧАСОВЕ ОБЩО | AM8: ОБЩО ДНИ | AN8: ОБЩО ЧАСОВЕ 1 МЕСЕЦ | AO8: Редовен отпуск | AP8: Отпуск по майчинство | AQ8: Отпуск по болест | AR8: Изп. държ. задължения | AS8: С разреш. на администр. | AT8: Самоотлъчка | AU8: ОТПУСКА | AV8: ИЗВ.ЧАСОВЕ
AO9: О | AP9: М | AQ9: Б | AR9: Д | AS9: А | AT9: С
A10: 1 | B10: =('ОБЕКТ 1'!B10) -> ИВАН ИВАНОВ | C10: =('ОБЕКТ 1'!C10) -> 8 | D10: =('ОБЕКТ 1'!D10) -> Русе | E10: =('ОБЕКТ 1'!E10) -> ОБЕКТ 1 | F10: =('ОБЕКТ 1'!F10) -> продавач-консултант | G10: =('ОБЕКТ 1'!G10) -> 1 | H10: =('ОБЕКТ 1'!H10) -> П | I10: =('ОБЕКТ 1'!I10) -> П | ... AV10: =('ОБЕКТ 1'!AV10) -> 0
A11: 2 | B11: =('ОБЕКТ 1'!B11) -> ПЕТЪР ПЕТРОВ | C11: =('ОБЕКТ 1'!C11) -> 4 | D11: =('ОБЕКТ 1'!D11) -> Русе | E11: =('ОБЕКТ 1'!E11) -> ОБЕКТ 1 | F11: =('ОБЕКТ 1'!F11) -> продавач-консултант | G11: =('ОБЕКТ 1'!G11) -> 2 | H11: =('ОБЕКТ 1'!H11) -> П | I11: =('ОБЕКТ 1'!I11) -> П | ... AV11: =('ОБЕКТ 1'!AV11) -> 4
A12: 3 | B12: =('ОБЕКТ 2'!B10) -> АНГЕЛ АНГЕЛОВ | C12: =('ОБЕКТ 2'!C10) -> 8 | D12: =('ОБЕКТ 2'!D10) -> Русе | E12: =('ОБЕКТ 2'!E10) -> ОБЕКТ 2 | F12: =('ОБЕКТ 2'!F10) -> продавач-консултант | G12: =('ОБЕКТ 2'!G10) -> 1 | H12: =('ОБЕКТ 2'!H10) -> П | I12: =('ОБЕКТ 2'!I10) -> П | ... AV12: =('ОБЕКТ 2'!AV10) -> 0
A13: 4 | B13: =('ОБЕКТ 2'!B11) -> ПЛАМЕН ПЛАМЕНОВ | C13: =('ОБЕКТ 2'!C11) -> 8 | D13: =('ОБЕКТ 2'!D11) -> Русе | E13: =('ОБЕКТ 2'!E11) -> ОБЕКТ 2 | F13: =('ОБЕКТ 2'!F11) -> продавач-консултант | G13: =('ОБЕКТ 2'!G11) -> 1 | H13: =('ОБЕКТ 2'!H11) -> П | I13: =('ОБЕКТ 2'!I11) -> П | ... AV13: =('ОБЕКТ 2'!AV11) -> 0
A14: 5 | B14: =('ОБЕКТ 2'!B12) -> 0 | C14: =('ОБЕКТ 2'!C12) -> 0 | D14: =('ОБЕКТ 2'!D12) -> 0 | E14: =('ОБЕКТ 2'!E12) -> 0 | F14: =('ОБЕКТ 2'!F12) -> 0 | G14: =('ОБЕКТ 2'!G12) -> 0 | H14: =('ОБЕКТ 2'!H12) -> 0 | I14: =('ОБЕКТ 2'!I12) -> 0 | ... AV14: =('ОБЕКТ 2'!AV12) -> 0
A15: 6 | B15: =('ОБЕКТ 2'!B13) -> 0 | C15: =('ОБЕКТ 2'!C13) -> 0 | D15: =('ОБЕКТ 2'!D13) -> 0 | E15: =('ОБЕКТ 2'!E13) -> 0 | F15: =('ОБЕКТ 2'!F13) -> 0 | G15: =('ОБЕКТ 2'!G13) -> 0 | H15: =('ОБЕКТ 2'!H13) -> 0 | I15: =('ОБЕКТ 2'!I13) -> 0 | ... AV15: =('ОБЕКТ 2'!AV13) -> 0
A16: 7 | B16: =('ОБЕКТ 3'!B10) -> ИВАНКА ПЕТРОВА | C16: =('ОБЕКТ 3'!C10) -> 8 | D16: =('ОБЕКТ 3'!D10) -> Силистра | E16: =('ОБЕКТ 3'!E10) -> ОБЕКТ 3 | F16: =('ОБЕКТ 3'!F10) -> продавач-консултант | G16: =('ОБЕКТ 3'!G10) -> 1 | H16: =('ОБЕКТ 3'!H10) -> П | I16: =('ОБЕКТ 3'!I10) -> П | ... AV16: =('ОБЕКТ 3'!AV10) -> 2
A17: 8 | B17: =('ОБЕКТ 3'!B11) -> КАЛОЯН КИРИЛОВ | C17: =('ОБЕКТ 3'!C11) -> 8 | D17: =('ОБЕКТ 3'!D11) -> Силистра | E17: =('ОБЕКТ 3'!E11) -> ОБЕКТ3 | F17: =('ОБЕКТ 3'!F11) -> продавач-консултант | G17: =('ОБЕКТ 3'!G11) -> 1 | H17: =('ОБЕКТ 3'!H11) -> П | I17: =('ОБЕКТ 3'!I11) -> П | ... AV17: =('ОБЕКТ 3'!AV11) -> -7
A18: 9 | B18: =('ОБЕКТ 3'!B12) -> 0 | C18: =('ОБЕКТ 3'!C12) -> 0 | D18: =('ОБЕКТ 3'!D12) -> 0 | E18: =('ОБЕКТ 3'!E12) -> 0 | F18: =('ОБЕКТ 3'!F12) -> 0 | G18: =('ОБЕКТ 3'!G12) -> 0 | H18: =('ОБЕКТ 3'!H12) -> 0 | I18: =('ОБЕКТ 3'!I12) -> 0 | ... AV18: =('ОБЕКТ 3'!AV12) -> 0
A19: 10 | B19: =('ОБЕКТ 4'!B10) -> ЕМИЛ ЕМИЛОВ | C19: =('ОБЕКТ 4'!C10) -> 8 | D19: =('ОБЕКТ 4'!D10) -> Разград | E19: =('ОБЕКТ 4'!E10) -> ОБЕКТ 4 | F19: =('ОБЕКТ 4'!F10) -> продавач-консултант | G19: =('ОБЕКТ 4'!G10) -> 1 | H19: =('ОБЕКТ 4'!H10) -> П | I19: =('ОБЕКТ 4'!I10) -> П | ... AV19: =('ОБЕКТ 4'!AV10) -> 26
A20: 11 | B20: =('ОБЕКТ 4'!B11) -> КАМЕН КАМЕНОВ | C20: =('ОБЕКТ 4'!C11) -> 8 | D20: =('ОБЕКТ 4'!D11) -> Разград | E20: =('ОБЕКТ 4'!E11) -> ОБЕКТ 4 | F20: =('ОБЕКТ 4'!F11) -> продавач-консултант | G20: =('ОБЕКТ 4'!G11) -> Б | H20: =('ОБЕКТ 4'!H11) -> П | I20: =('ОБЕКТ 4'!I11) -> П | ... AV20: =('ОБЕКТ 4'!AV11) -> 23
A21: 12 | B21: =('ОБЕКТ 4'!B12) -> 0 | C21: =('ОБЕКТ 4'!C12) -> 0 | D21: =('ОБЕКТ 4'!D12) -> 0 | E21: =('ОБЕКТ 4'!E12) -> 0 | F21: =('ОБЕКТ 4'!F12) -> 0 | G21: =('ОБЕКТ 4'!G12) -> 0 | H21: =('ОБЕКТ 4'!H12) -> 0 | I21: =('ОБЕКТ 4'!I12) -> 0 | ... AV21: =('ОБЕКТ 4'!AV12) -> 0
A22: 13 | B22: =('ОБЕКТ 5'!B10) -> ВЕЛИЧКА ВЕЛИКОВА | C22: =('ОБЕКТ 5'!C10) -> 8 | D22: =('ОБЕКТ 5'!D10) -> Плевен | E22: =('ОБЕКТ 5'!E10) -> ОБЕКТ 5 | F22: =('ОБЕКТ 5'!F10) -> продавач-консултант | G22: =('ОБЕКТ 5'!G10) -> 1 | H22: =('ОБЕКТ 5'!H10) -> П | I22: =('ОБЕКТ 5'!I10) -> П | ... AU22: =('ОБЕКТ 5'!AU10) -> 2 | AV22: =(AL22-AS16) -> 160
A23: 14 | B23: =('ОБЕКТ 5'!B11) -> ПЕТРАНКА ПЕТРОВА | C23: =('ОБЕКТ 5'!C11) -> 8 | D23: =('ОБЕКТ 5'!D11) -> Плевен | E23: =('ОБЕКТ 5'!E11) -> ОБЕКТ 5 | F23: =('ОБЕКТ 5'!F11) -> продавач-консултант | G23: =('ОБЕКТ 5'!G11) -> 1 | H23: =('ОБЕКТ 5'!H11) -> П | I23: =('ОБЕКТ 5'!I11) -> П | ... AU23: =('ОБЕКТ 5'!AU11) -> 3 | AV23: =(AL23-AS17) -> 176
A24: 15 | B24: =('ОБЕКТ 5'!B12) -> 0 | C24: =('ОБЕКТ 5'!C12) -> 0 | D24: =('ОБЕКТ 5'!D12) -> 0 | E24: =('ОБЕКТ 5'!E12) -> 0 | F24: =('ОБЕКТ 5'!F12) -> 0 | G24: =('ОБЕКТ 5'!G12) -> 0 | H24: =('ОБЕКТ 5'!H12) -> 0 | I24: =('ОБЕКТ 5'!I12) -> 0 | ... AU24: =('ОБЕКТ 5'!AU12) -> 0 | AV24: =(AL24-AS18) -> 0
A25: 16 | B25: =('ОБЕКТ 5'!B13) -> 0 | C25: =('ОБЕКТ 5'!C13) -> 0 | D25: =('ОБЕКТ 5'!D13) -> 0 | E25: =('ОБЕКТ 5'!E13) -> 0 | F25: =('ОБЕКТ 5'!F13) -> 0 | G25: =('ОБЕКТ 5'!G13) -> 0 | H25: =('ОБЕКТ 5'!H13) -> 0 | I25: =('ОБЕКТ 5'!I13) -> 0 | ... AU25: =('ОБЕКТ 5'!AU13) -> 0 | AV25: =(AL25-AS19) -> 0
B41: работно време :
B43: Силистра, обект Кауфланд | C43: 09:00-20:00 | E43: часове | F43: почивки
M44: П - почивка
B45: 1 - първа смяна | C45: 09:00-18:00 | E45: 9 часа | F45: 1 час | M45: О - отпуск
B46: 2 - втора смяна | C46: 12:00-20:00 | E46: 8 часа | F46: 1 час | M46: НО - неплатен отпуск
B47: 3 - трета смяна | C47: 09:00-19:00 | E47: 10 часа | F47: 1.5 часа | M47: Б - болничен
N50: СЪБОТА И НЕДЕЛЯ
B52: Плевен, обект Кауфланд | C52: 09:00-20:00 | N52: ОФИЦИАЛЕН ПРАЗНИК
B54: 1- първа смяна | C54: 09:00-18:00 | E54: 9 часа | F54: 1 час
B55: 2 - втора смяна | C55: 12:00-20:00 | E55: 8 часа | F55: 1 час | N55: Русе център
B56: 3- трета смяна | C56: 09:00-19:00 | E56: 10 часа | F56: 1.5 часа
N57: Русе дружба
N59: Силистра кауфланд
B61: Русе, обект Дружба | C61: 10:00-19:00 | N61: Плевен кауфланд
B63: 1 - първа смяна | C63: 10:00-18:00 | E63: 8 часа | F63: 1 час | N63: Разград кауфланд
B64: 2 - втора смяна | C64: 11:00-15:00 | E64: 4 часа | F64: 1 час
B65: 3 - трета смяна | C65: 10:00-15:00 | E65: 5 часа | F65: 0.5 часа
B69: Русе, обект Център | C69: 10:00-19:00
B71: 1 - първа смяна | C71: 10:00-18:00 | E71: 8 часа | F71: 1 час
B72: 2 - втора смяна | C72: 11:00-19:00 | E72: 8 часа | F72: 1 час
B73: 3 - трета смяна | C73: 10:00-15:00 | E73: 5 часа | F73: 0.5 часа
B78: Разград, обект Кауфланд | C78: 9:00-20:00
B80: 1 - първа смяна | C80: 9:00-18:00 | E80: 9 часа | F80: 1 час
B81: 2 - втора смяна | C81: 12:00-20:00 | E81: 8 часа | F81: 1 час
B82: 3 - трета смяна | C82: 9:00-19:00 | E82: 10 часа | F82: 1.5 часа
