Workbook

Sheet Пътни листове
A1: ПЪТЕН ЛИСТ
A2: avtolist.bg — Автоматизация на пътни листове
A4: Фирма: | E4: Месец / Година: | I4: МПС (рег. №):
A5: Разход на гориво: | E5: 0 | G5: л / 100 км ← въведете средния разход на автомобила (попълва се автоматично в колона К за всеки ред)
A6: № | B6: Дата | C6: Шофьор | D6: Рег. № | E6: От (начало) | F6: До (край) | G6: Цел на пътуването | H6: Км начало | I6: Км край | J6: Изминати км | K6: Ср. разход (л/100км) | L6: Изразх. гориво (л) | M6: Цена гориво с ДДС (€/л) | N6: Стойност с ДДС (€) | O6: Стойност без ДДС (€) | P6: Бележки
A7: 1 | D7: =IF($K$4<>"",$K$4,"") | J7: =IF(AND(H7<>"",I7<>""),I7-H7,"") | K7: =$E$5 | L7: =IF(AND(J7<>"",K7<>""),ROUND(J7*K7/100,2),"") | N7: =IF(AND(L7<>"",M7<>""),ROUND(L7*M7,2),"") | O7: =IF(N7<>"",ROUND(N7/1.2,2),"")
A8: 2 | D8: =IF($K$4<>"",$K$4,"") | H8: =IF(I7<>"",I7,"") | J8: =IF(AND(H8<>"",I8<>""),I8-H8,"") | K8: =$E$5 | L8: =IF(AND(J8<>"",K8<>""),ROUND(J8*K8/100,2),"") | N8: =IF(AND(L8<>"",M8<>""),ROUND(L8*M8,2),"") | O8: =IF(N8<>"",ROUND(N8/1.2,2),"")
A9: 3 | D9: =IF($K$4<>"",$K$4,"") | H9: =IF(I8<>"",I8,"") | J9: =IF(AND(H9<>"",I9<>""),I9-H9,"") | K9: =$E$5 | L9: =IF(AND(J9<>"",K9<>""),ROUND(J9*K9/100,2),"") | N9: =IF(AND(L9<>"",M9<>""),ROUND(L9*M9,2),"") | O9: =IF(N9<>"",ROUND(N9/1.2,2),"")
A10: 4 | D10: =IF($K$4<>"",$K$4,"") | H10: =IF(I9<>"",I9,"") | J10: =IF(AND(H10<>"",I10<>""),I10-H10,"") | K10: =$E$5 | L10: =IF(AND(J10<>"",K10<>""),ROUND(J10*K10/100,2),"") | N10: =IF(AND(L10<>"",M10<>""),ROUND(L10*M10,2),"") | O10: =IF(N10<>"",ROUND(N10/1.2,2),"")
A11: 5 | D11: =IF($K$4<>"",$K$4,"") | H11: =IF(I10<>"",I10,"") | J11: =IF(AND(H11<>"",I11<>""),I11-H11,"") | K11: =$E$5 | L11: =IF(AND(J11<>"",K11<>""),ROUND(J11*K11/100,2),"") | N11: =IF(AND(L11<>"",M11<>""),ROUND(L11*M11,2),"") | O11: =IF(N11<>"",ROUND(N11/1.2,2),"")
A12: 6 | D12: =IF($K$4<>"",$K$4,"") | H12: =IF(I11<>"",I11,"") | J12: =IF(AND(H12<>"",I12<>""),I12-H12,"") | K12: =$E$5 | L12: =IF(AND(J12<>"",K12<>""),ROUND(J12*K12/100,2),"") | N12: =IF(AND(L12<>"",M12<>""),ROUND(L12*M12,2),"") | O12: =IF(N12<>"",ROUND(N12/1.2,2),"")
A13: 7 | D13: =IF($K$4<>"",$K$4,"") | H13: =IF(I12<>"",I12,"") | J13: =IF(AND(H13<>"",I13<>""),I13-H13,"") | K13: =$E$5 | L13: =IF(AND(J13<>"",K13<>""),ROUND(J13*K13/100,2),"") | N13: =IF(AND(L13<>"",M13<>""),ROUND(L13*M13,2),"") | O13: =IF(N13<>"",ROUND(N13/1.2,2),"")
A14: 8 | D14: =IF($K$4<>"",$K$4,"") | H14: =IF(I13<>"",I13,"") | J14: =IF(AND(H14<>"",I14<>""),I14-H14,"") | K14: =$E$5 | L14: =IF(AND(J14<>"",K14<>""),ROUND(J14*K14/100,2),"") | N14: =IF(AND(L14<>"",M14<>""),ROUND(L14*M14,2),"") | O14: =IF(N14<>"",ROUND(N14/1.2,2),"")
A15: 9 | D15: =IF($K$4<>"",$K$4,"") | H15: =IF(I14<>"",I14,"") | J15: =IF(AND(H15<>"",I15<>""),I15-H15,"") | K15: =$E$5 | L15: =IF(AND(J15<>"",K15<>""),ROUND(J15*K15/100,2),"") | N15: =IF(AND(L15<>"",M15<>""),ROUND(L15*M15,2),"") | O15: =IF(N15<>"",ROUND(N15/1.2,2),"")
A16: 10 | D16: =IF($K$4<>"",$K$4,"") | H16: =IF(I15<>"",I15,"") | J16: =IF(AND(H16<>"",I16<>""),I16-H16,"") | K16: =$E$5 | L16: =IF(AND(J16<>"",K16<>""),ROUND(J16*K16/100,2),"") | N16: =IF(AND(L16<>"",M16<>""),ROUND(L16*M16,2),"") | O16: =IF(N16<>"",ROUND(N16/1.2,2),"")
A17: 11 | D17: =IF($K$4<>"",$K$4,"") | H17: =IF(I16<>"",I16,"") | J17: =IF(AND(H17<>"",I17<>""),I17-H17,"") | K17: =$E$5 | L17: =IF(AND(J17<>"",K17<>""),ROUND(J17*K17/100,2),"") | N17: =IF(AND(L17<>"",M17<>""),ROUND(L17*M17,2),"") | O17: =IF(N17<>"",ROUND(N17/1.2,2),"")
A18: 12 | D18: =IF($K$4<>"",$K$4,"") | H18: =IF(I17<>"",I17,"") | J18: =IF(AND(H18<>"",I18<>""),I18-H18,"") | K18: =$E$5 | L18: =IF(AND(J18<>"",K18<>""),ROUND(J18*K18/100,2),"") | N18: =IF(AND(L18<>"",M18<>""),ROUND(L18*M18,2),"") | O18: =IF(N18<>"",ROUND(N18/1.2,2),"")
A19: 13 | D19: =IF($K$4<>"",$K$4,"") | H19: =IF(I18<>"",I18,"") | J19: =IF(AND(H19<>"",I19<>""),I19-H19,"") | K19: =$E$5 | L19: =IF(AND(J19<>"",K19<>""),ROUND(J19*K19/100,2),"") | N19: =IF(AND(L19<>"",M19<>""),ROUND(L19*M19,2),"") | O19: =IF(N19<>"",ROUND(N19/1.2,2),"")
... A31: 25 | D31: =IF($K$4<>"",$K$4,"") | H31: =IF(I30<>"",I30,"") | J31: =IF(AND(H31<>"",I31<>""),I31-H31,"") | K31: =$E$5 | L31: =IF(AND(J31<>"",K31<>""),ROUND(J31*K31/100,2),"") | N31: =IF(AND(L31<>"",M31<>""),ROUND(L31*M31,2),"") | O31: =IF(N31<>"",ROUND(N31/1.2,2),"")
A32: ОБЩО | J32: =SUM(J7:J31) | L32: =SUM(L7:L31) | N32: =SUM(N7:N31) | O32: =SUM(O7:O31)
A34: Съставил: | G34: Проверил / Одобрил:
A37: Генерирано безплатно от avtolist.bg | https://avtolist.bg

Sheet Фактури за гориво
A1: ФАКТУРИ ЗА ГОРИВО
A2: avtolist.bg — Автоматизация на пътни листове
A4: Месец / Година: | C4: ='Пътни листове'!G4
A6: № | B6: Дата | C6: Рег. № | D6: Шофьор | E6: Литри | F6: Цена / л с ДДС (€) | G6: Цена / л без ДДС (€) | H6: Сума с ДДС (€) | I6: Сума без ДДС (€) | J6: № фактура / бон | K6: Бележки
A7: 1 | C7: =IF('Пътни листове'!$K$4<>"", 'Пътни листове'!$K$4,"") | G7: =IF(F7<>"",ROUND(F7/1.2,3),"") | H7: =IF(AND(E7<>"",F7<>""),ROUND(E7*F7,2),"") | I7: =IF(H7<>"",ROUND(H7/1.2,2),"")
A8: 2 | C8: =IF('Пътни листове'!$K$4<>"", 'Пътни листове'!$K$4,"") | G8: =IF(F8<>"",ROUND(F8/1.2,3),"") | H8: =IF(AND(E8<>"",F8<>""),ROUND(E8*F8,2),"") | I8: =IF(H8<>"",ROUND(H8/1.2,2),"")
A9: 3 | C9: =IF('Пътни листове'!$K$4<>"", 'Пътни листове'!$K$4,"") | G9: =IF(F9<>"",ROUND(F9/1.2,3),"") | H9: =IF(AND(E9<>"",F9<>""),ROUND(E9*F9,2),"") | I9: =IF(H9<>"",ROUND(H9/1.2,2),"")
A10: 4 | C10: =IF('Пътни листове'!$K$4<>"", 'Пътни листове'!$K$4,"") | G10: =IF(F10<>"",ROUND(F10/1.2,3),"") | H10: =IF(AND(E10<>"",F10<>""),ROUND(E10*F10,2),"") | I10: =IF(H10<>"",ROUND(H10/1.2,2),"")
A11: 5 | C11: =IF('Пътни листове'!$K$4<>"", 'Пътни листове'!$K$4,"") | G11: =IF(F11<>"",ROUND(F11/1.2,3),"") | H11: =IF(AND(E11<>"",F11<>""),ROUND(E11*F11,2),"") | I11: =IF(H11<>"",ROUND(H11/1.2,2),"")
A12: 6 | C12: =IF('Пътни листове'!$K$4<>"", 'Пътни листове'!$K$4,"") | G12: =IF(F12<>"",ROUND(F12/1.2,3),"") | H12: =IF(AND(E12<>"",F12<>""),ROUND(E12*F12,2),"") | I12: =IF(H12<>"",ROUND(H12/1.2,2),"")
A13: 7 | C13: =IF('Пътни листове'!$K$4<>"", 'Пътни листове'!$K$4,"") | G13: =IF(F13<>"",ROUND(F13/1.2,3),"") | H13: =IF(AND(E13<>"",F13<>""),ROUND(E13*F13,2),"") | I13: =IF(H13<>"",ROUND(H13/1.2,2),"")
A14: 8 | C14: =IF('Пътни листове'!$K$4<>"", 'Пътни листове'!$K$4,"") | G14: =IF(F14<>"",ROUND(F14/1.2,3),"") | H14: =IF(AND(E14<>"",F14<>""),ROUND(E14*F14,2),"") | I14: =IF(H14<>"",ROUND(H14/1.2,2),"")
A15: 9 | C15: =IF('Пътни листове'!$K$4<>"", 'Пътни листове'!$K$4,"") | G15: =IF(F15<>"",ROUND(F15/1.2,3),"") | H15: =IF(AND(E15<>"",F15<>""),ROUND(E15*F15,2),"") | I15: =IF(H15<>"",ROUND(H15/1.2,2),"")
A16: 10 | C16: =IF('Пътни листове'!$K$4<>"", 'Пътни листове'!$K$4,"") | G16: =IF(F16<>"",ROUND(F16/1.2,3),"") | H16: =IF(AND(E16<>"",F16<>""),ROUND(E16*F16,2),"") | I16: =IF(H16<>"",ROUND(H16/1.2,2),"")
A17: 11 | C17: =IF('Пътни листове'!$K$4<>"", 'Пътни листове'!$K$4,"") | G17: =IF(F17<>"",ROUND(F17/1.2,3),"") | H17: =IF(AND(E17<>"",F17<>""),ROUND(E17*F17,2),"") | I17: =IF(H17<>"",ROUND(H17/1.2,2),"")
A18: 12 | C18: =IF('Пътни листове'!$K$4<>"", 'Пътни листове'!$K$4,"") | G18: =IF(F18<>"",ROUND(F18/1.2,3),"") | H18: =IF(AND(E18<>"",F18<>""),ROUND(E18*F18,2),"") | I18: =IF(H18<>"",ROUND(H18/1.2,2),"")
... A31: 25 | C31: =IF('Пътни листове'!$K$4<>"", 'Пътни листове'!$K$4,"") | G31: =IF(F31<>"",ROUND(F31/1.2,3),"") | H31: =IF(AND(E31<>"",F31<>""),ROUND(E31*F31,2),"") | I31: =IF(H31<>"",ROUND(H31/1.2,2),"")
A32: ОБЩО | E32: =SUM(E7:E31) | H32: =SUM(H7:H31) | I32: =SUM(I7:I31)
A34: Генерирано безплатно от avtolist.bg | https://avtolist.bg

Sheet Обобщение
A1: ОБОБЩЕНИЕ ЗА МЕСЕЦА
A2: avtolist.bg — Автоматизация на пътни листове
A4: Ниво на гориво (начало на месеца, л): | C4: л | D4: ← въведете ръчно
A5: Ниво на гориво (край на месеца, л): | B5: =IF(B4<>"",ROUND(B4+'Фактури за гориво'!E32-'Пътни листове'!L32,2),"") | C5: л | D5: автоматично: начало + заредено − изразходвано
A7: МАРШРУТИ
A9: Общо изминати км | B9: ='Пътни листове'!J32 | C9: км | D9: от лист "Пътни листове"
A10: Брой пътувания | B10: =COUNTA('Пътни листове'!I7:I31)-COUNTBLANK('Пътни листове'!I7:I31) | C10: бр. | D10: броят редове с попълнено крайно показание
A11: Среден разход | B11: ='Пътни листове'!E5 | C11: л/100км | D11: въведен в лист "Пътни листове"
A13: ГОРИВО
A14: Заредено гориво (от фактури) | B14: ='Фактури за гориво'!E32 | C14: л | D14: от лист "Фактури за гориво"
A15: Разход за гориво с ДДС (€) | B15: ='Фактури за гориво'!H32 | C15: € | D15: от лист "Фактури за гориво"
A16: Разход за гориво без ДДС (€) | B16: ='Фактури за гориво'!I32 | C16: € | D16: от лист "Фактури за гориво"
A17: Изразходвано гориво (изчислено) | B17: ='Пътни листове'!L32 | C17: л | D17: изчислено по разход × км
A18: Обща стойност гориво с ДДС (€) | B18: ='Пътни листове'!N32 | C18: € | D18: изчислено по цена × литри
A19: Обща стойност гориво без ДДС (€) | B19: ='Пътни листове'!O32 | C19: € | D19: изчислено автоматично (÷ 1.20)
A20: Ниво гориво (начало) | B20: =B4 | C20: л | D20: въведено ръчно по-горе
A21: Ниво гориво (край, изчислено) | B21: =B5 | C21: л | D21: начало + заредено − изразходвано
A23: КИЛОМЕТРАЖ
A24: Километраж (начало) | B24: =IFERROR(INDEX('Пътни листове'!H7:H31,MATCH(TRUE,INDEX('Пътни листове'!H7:H31<>"",0),0)),"") | C24: км | D24: от първото пътуване
A25: Километраж (край) | B25: =IFERROR(LOOKUP(2,1/('Пътни листове'!I7:I31<>""),'Пътни листове'!I7:I31),"") | C25: км | D25: от последното пътуване
A26: Изминати км (одометър) | B26: =IFERROR(IFERROR(LOOKUP(2,1/('Пътни листове'!I7:I31<>""),'Пътни листове'!I7:I31),"")-(IFERROR(INDEX('Пътни листове'!H7:H31,MATCH(TRUE,INDEX('Пътни листове'!H7:H31<>"",0),0)),"")),"") | C26: км | D26: разлика от одометъра
A27: Изминати км (пътни листове) | B27: ='Пътни листове'!J32 | C27: км | D27: сума от пътните листове
A28: Разлика (одометър − листове) | B28: =IFERROR(IFERROR(LOOKUP(2,1/('Пътни листове'!I7:I31<>""),'Пътни листове'!I7:I31),"")-(IFERROR(INDEX('Пътни листове'!H7:H31,MATCH(TRUE,INDEX('Пътни листове'!H7:H31<>"",0),0)),""))-'Пътни листове'!J32,"") | C28: км | D28: трябва да е 0 или близо до 0
A30: Генерирано безплатно от avtolist.bg | https://avtolist.bg
